BEGIN:VCALENDAR
VERSION:2.0
PRODID:-//ChamberMaster//Event Calendar 2.0//EN
METHOD:PUBLISH
X-PUBLISHED-TTL:P3D
REFRESH-INTERVAL:P3D
CALSCALE:GREGORIAN
BEGIN:VEVENT
DTSTART:20180801T170000Z
DTEND:20180801T180000Z
X-MICROSOFT-CDO-ALLDAYEVENT:FALSE
SUMMARY:Practical Uses for Email Automation
DESCRIPTION:Automated emails not only allow you to save time\, but they also allow you to build stronger relationships by sending timely\, relevant emails to your subscribers. We'll provide a simple formula and use case examples to help you create automated emails that get results for your business.\n\n\n\nIn this free one hour webinar\, you'll learn how to use automation to:\n\n* Engage new customers to build lasting relationships\n\n* Turn customers into loyal\, repeat buyers\n\n* Keep your audience engaged.\n\n\n\nAt the end of the webinar\, you can get your questions answered by our marketing expert during a live Q&A session.
X-ALT-DESC;FMTTYPE=text/html:<span style="color: rgb(96\, 109\, 120)\; font-family: &quot\;Whitney SSm A&quot\;\, &quot\;Whitney SSm B&quot\;\, sans-serif\; font-size: 16px\; background-color: rgb(255\, 254\, 251)\;">Automated emails not only allow you to save time\, but they also allow you to build stronger relationships by sending timely\, relevant emails to your subscribers. We&rsquo\;ll provide a simple formula and use case examples to help you create automated emails that get results for your business.</span><br style="box-sizing: border-box\; color: rgb(96\, 109\, 120)\; font-family: &quot\;Whitney SSm A&quot\;\, &quot\;Whitney SSm B&quot\;\, sans-serif\; font-size: 16px\; background-color: rgb(255\, 254\, 251)\;" />\n<br style="box-sizing: border-box\; color: rgb(96\, 109\, 120)\; font-family: &quot\;Whitney SSm A&quot\;\, &quot\;Whitney SSm B&quot\;\, sans-serif\; font-size: 16px\; background-color: rgb(255\, 254\, 251)\;" />\n<span style="color: rgb(96\, 109\, 120)\; font-family: &quot\;Whitney SSm A&quot\;\, &quot\;Whitney SSm B&quot\;\, sans-serif\; font-size: 16px\; background-color: rgb(255\, 254\, 251)\;">In this free one hour webinar\, you&rsquo\;ll learn how to use automation to:</span><br style="box-sizing: border-box\; color: rgb(96\, 109\, 120)\; font-family: &quot\;Whitney SSm A&quot\;\, &quot\;Whitney SSm B&quot\;\, sans-serif\; font-size: 16px\; background-color: rgb(255\, 254\, 251)\;" />\n<span style="color: rgb(96\, 109\, 120)\; font-family: &quot\;Whitney SSm A&quot\;\, &quot\;Whitney SSm B&quot\;\, sans-serif\; font-size: 16px\; background-color: rgb(255\, 254\, 251)\;">* Engage new customers to build lasting relationships</span><br style="box-sizing: border-box\; color: rgb(96\, 109\, 120)\; font-family: &quot\;Whitney SSm A&quot\;\, &quot\;Whitney SSm B&quot\;\, sans-serif\; font-size: 16px\; background-color: rgb(255\, 254\, 251)\;" />\n<span style="color: rgb(96\, 109\, 120)\; font-family: &quot\;Whitney SSm A&quot\;\, &quot\;Whitney SSm B&quot\;\, sans-serif\; font-size: 16px\; background-color: rgb(255\, 254\, 251)\;">* Turn customers into loyal\, repeat buyers</span><br style="box-sizing: border-box\; color: rgb(96\, 109\, 120)\; font-family: &quot\;Whitney SSm A&quot\;\, &quot\;Whitney SSm B&quot\;\, sans-serif\; font-size: 16px\; background-color: rgb(255\, 254\, 251)\;" />\n<span style="color: rgb(96\, 109\, 120)\; font-family: &quot\;Whitney SSm A&quot\;\, &quot\;Whitney SSm B&quot\;\, sans-serif\; font-size: 16px\; background-color: rgb(255\, 254\, 251)\;">* Keep your audience engaged.</span><br style="box-sizing: border-box\; color: rgb(96\, 109\, 120)\; font-family: &quot\;Whitney SSm A&quot\;\, &quot\;Whitney SSm B&quot\;\, sans-serif\; font-size: 16px\; background-color: rgb(255\, 254\, 251)\;" />\n<br style="box-sizing: border-box\; color: rgb(96\, 109\, 120)\; font-family: &quot\;Whitney SSm A&quot\;\, &quot\;Whitney SSm B&quot\;\, sans-serif\; font-size: 16px\; background-color: rgb(255\, 254\, 251)\;" />\n<span style="color: rgb(96\, 109\, 120)\; font-family: &quot\;Whitney SSm A&quot\;\, &quot\;Whitney SSm B&quot\;\, sans-serif\; font-size: 16px\; background-color: rgb(255\, 254\, 251)\;">At the end of the webinar\, you can get your questions answered by our marketing expert during a live Q&amp\;A session.</span>
LOCATION:webinar https://blogs.constantcontact.com/event/Practical+Uses+for+Email+Automation_70139000002I9X0AAK/
UID:e.781.26150
SEQUENCE:3
DTSTAMP:20260423T143704Z
URL:http://littleriver.chambermaster.com/events/details/practical-uses-for-email-automation-26150
END:VEVENT

END:VCALENDAR
